BEGIN:VCALENDAR
VERSION:2.0
PRODID:-//https://fritfald.dk//NONSGML kigkonsult.se iCalcreator 2.41.71//
CALSCALE:GREGORIAN
METHOD:PUBLISH
UID:39383138-3863-4431-b033-643566313136
X-WR-CALNAME:JCal Pro Kalender
X-WR-CALDESC:Din online arrangementskalender
X-WR-TIMEZONE:Europe/Copenhagen
BEGIN:VTIMEZONE
TZID:Europe/Copenhagen
TZUNTIL:20271031T010000Z
BEGIN:STANDARD
TZNAME:CET
DTSTART:20251026T030000
TZOFFSETFROM:+0200
TZOFFSETTO:+0100
RDATE:20261025T030000
END:STANDARD
BEGIN:DAYLIGHT
TZNAME:CEST
DTSTART:20260329T020000
TZOFFSETFROM:+0100
TZOFFSETTO:+0200
RDATE:20270328T020000
END:DAYLIGHT
END:VTIMEZONE
BEGIN:VEVENT
UID:20250728T090000UTC-2544166Hbh@https://fritfald.dk/
DTSTAMP:20260421T032604Z
CATEGORIES:Arrangementer
CATEGORIES:Springdage
DTSTART;TZID=Europe/Copenhagen:20250730T090000
DTEND;TZID=Europe/Copenhagen:20250730T090000
RRULE:FREQ=DAILY;UNTIL=20250801T220000Z;INTERVAL=1
SUMMARY:DM Fritfald
URL:https://fritfald.dk/index.php/kalender-fdk/20-arrangementer/1193-dm-fri
 tfald
END:VEVENT
BEGIN:VEVENT
UID:20250705T090000UTC-8323I6fsug@https://fritfald.dk/
DTSTAMP:20260421T032604Z
CATEGORIES:Springdage
DTSTART;TZID=Europe/Copenhagen:20250803T090000
DTEND;TZID=Europe/Copenhagen:20250803T090000
SUMMARY:Springdag - AFF- Tandem og C-springere
URL:https://fritfald.dk/index.php/kalender-fdk/19-springdage/1198-springdag
 -aff-tandem-og-c-springere
END:VEVENT
BEGIN:VEVENT
UID:20250704T120000UTC-3898iasb8p@https://fritfald.dk/
DTSTAMP:20260421T032604Z
CATEGORIES:Springdage
DTSTART;TZID=Europe/Copenhagen:20250808T120000
DTEND;TZID=Europe/Copenhagen:20250808T120000
SUMMARY:Springdag - AFF- Tandem og C-springere
URL:https://fritfald.dk/index.php/kalender-fdk/19-springdage/1200-springdag
 -aff-tandem-og-c-springere
END:VEVENT
BEGIN:VEVENT
UID:20250705T090000UTC-1017EbPgMX@https://fritfald.dk/
DTSTAMP:20260421T032604Z
CATEGORIES:Springdage
DTSTART;TZID=Europe/Copenhagen:20250809T090000
DTEND;TZID=Europe/Copenhagen:20250809T090000
RRULE:FREQ=WEEKLY;COUNT=2;INTERVAL=1;BYDAY=SU,SA
SUMMARY:Springdag - AFF- Tandem og C-springere
URL:https://fritfald.dk/index.php/kalender-fdk/19-springdage/1203-springdag
 -aff-tandem-og-c-springere
END:VEVENT
BEGIN:VEVENT
UID:20250810T100000UTC-4360ow1pfT@https://fritfald.dk/
DTSTAMP:20260421T032604Z
CATEGORIES:Lukket for spring
CATEGORIES:Arrangementer
DESCRIPTION:<p>FDK laver et eller flere opvisningspring med flag</p>
DTSTART;TZID=Europe/Copenhagen:20250810T100000
DTEND;TZID=Europe/Copenhagen:20250810T160000
SUMMARY:Lolland-Falster Airport afholder Åbent Hus
URL:https://fritfald.dk/index.php/kalender-fdk/28-lukket-for-spring/1241-lo
 lland-falster-airport-afholder-abent-hus
X-ALT-DESC;FMTTYPE=TEXT/HTML:<p>FDK laver et eller flere opvisningspring me
 d flag</p>
END:VEVENT
BEGIN:VEVENT
UID:20250723T180000UTC-1677LvdI2C@https://fritfald.dk/
DTSTAMP:20260421T032604Z
CATEGORIES:Uddannelse og Kurser
DESCRIPTION:<p>Grundkursus til frit fald.<br />Teori og praktiske øvelser.<
 /p>\n<p>Booking her&nbsp\;<span style='color: #0000ff\;'><a href='index.ph
 p?Itemid=138' style='color: #0000ff\;'>Kursus</a></span></p>
DTSTART;TZID=Europe/Copenhagen:20250813T180000
DTEND;TZID=Europe/Copenhagen:20250813T220000
RRULE:FREQ=WEEKLY;COUNT=2;INTERVAL=1;BYDAY=WE,FR
SUMMARY:Grundkursus til frit fald - Teori og praktik
URL:https://fritfald.dk/index.php/kalender-fdk/21-uddannelse-kurser/1015-gr
 undkursus-til-frit-fald-teori-og-praktik
X-ALT-DESC;FMTTYPE=TEXT/HTML:<p>Grundkursus til frit fald.<br />Teori og pr
 aktiske øvelser.</p>\n<p>Booking her&nbsp\;<span style='color: #0000ff\;'>
 <a href='index.php?Itemid=138' style='color: #0000ff\;'>Kursus</a></span><
 /p>
END:VEVENT
BEGIN:VEVENT
UID:20250808T120000UTC-6137E7TVgw@https://fritfald.dk/
DTSTAMP:20260421T032604Z
CATEGORIES:Springdage
DTSTART;TZID=Europe/Copenhagen:20250815T120000
DTEND;TZID=Europe/Copenhagen:20250815T120000
SUMMARY:Springdag - AFF- Tandem og C-springere
URL:https://fritfald.dk/index.php/kalender-fdk/19-springdage/1201-springdag
 -aff-tandem-og-c-springere
END:VEVENT
BEGIN:VEVENT
UID:20250809T090000UTC-0698vgL0er@https://fritfald.dk/
DTSTAMP:20260421T032604Z
CATEGORIES:Springdage
DTSTART;TZID=Europe/Copenhagen:20250816T090000
DTEND;TZID=Europe/Copenhagen:20250816T090000
RRULE:FREQ=WEEKLY;COUNT=2;INTERVAL=1;BYDAY=SU,SA
SUMMARY:Springdag - AFF- Tandem og C-springere
URL:https://fritfald.dk/index.php/kalender-fdk/19-springdage/1206-springdag
 -aff-tandem-og-c-springere
END:VEVENT
BEGIN:VEVENT
UID:20250815T120000UTC-7285N0xfPh@https://fritfald.dk/
DTSTAMP:20260421T032604Z
CATEGORIES:Springdage
DTSTART;TZID=Europe/Copenhagen:20250822T120000
DTEND;TZID=Europe/Copenhagen:20250822T120000
SUMMARY:Springdag - AFF- Tandem og C-springere
URL:https://fritfald.dk/index.php/kalender-fdk/19-springdage/1202-springdag
 -aff-tandem-og-c-springere
END:VEVENT
BEGIN:VEVENT
UID:20250816T090000UTC-3556WMkLxd@https://fritfald.dk/
DTSTAMP:20260421T032604Z
CATEGORIES:Springdage
DTSTART;TZID=Europe/Copenhagen:20250823T090000
DTEND;TZID=Europe/Copenhagen:20250823T090000
RRULE:FREQ=WEEKLY;COUNT=2;INTERVAL=1;BYDAY=SU,SA
SUMMARY:Springdag - AFF- Tandem og C-springere
URL:https://fritfald.dk/index.php/kalender-fdk/19-springdage/1209-springdag
 -aff-tandem-og-c-springere
END:VEVENT
BEGIN:VEVENT
UID:20250813T180000UTC-1718fDKjnp@https://fritfald.dk/
DTSTAMP:20260421T032604Z
CATEGORIES:Uddannelse og Kurser
DESCRIPTION:<p>Grundkursus til frit fald.<br />Teori og praktiske øvelser.<
 /p>\n<p>Booking her&nbsp\;<span style='color: #0000ff\;'><a href='index.ph
 p?Itemid=138' style='color: #0000ff\;'>Kursus</a></span></p>
DTSTART;TZID=Europe/Copenhagen:20250827T180000
DTEND;TZID=Europe/Copenhagen:20250827T220000
SUMMARY:Grundkursus til frit fald - Teori og praktik
URL:https://fritfald.dk/index.php/kalender-fdk/21-uddannelse-kurser/1242-gr
 undkursus-til-frit-fald-teori-og-praktik
X-ALT-DESC;FMTTYPE=TEXT/HTML:<p>Grundkursus til frit fald.<br />Teori og pr
 aktiske øvelser.</p>\n<p>Booking her&nbsp\;<span style='color: #0000ff\;'>
 <a href='index.php?Itemid=138' style='color: #0000ff\;'>Kursus</a></span><
 /p>
END:VEVENT
BEGIN:VEVENT
UID:20250531T090000UTC-9832Ao6VvA@https://fritfald.dk/
DTSTAMP:20260421T032604Z
CATEGORIES:Lukket for spring
DTSTART;TZID=Europe/Copenhagen:20250829T090000
DTEND;TZID=Europe/Copenhagen:20250829T090000
RRULE:FREQ=DAILY;COUNT=3;INTERVAL=1
SUMMARY:Street Race
URL:https://fritfald.dk/index.php/kalender-fdk/28-lukket-for-spring/1045-st
 reet-race
END:VEVENT
END:VCALENDAR
