BEGIN:VCALENDAR
VERSION:2.0
PRODID:-//https://fritfald.dk//NONSGML kigkonsult.se iCalcreator 2.41.71//
CALSCALE:GREGORIAN
METHOD:PUBLISH
UID:62343964-6134-4963-b233-663437393763
X-WR-CALNAME:JCal Pro Kalender
X-WR-CALDESC:Din online arrangementskalender
X-WR-TIMEZONE:Europe/Copenhagen
BEGIN:VTIMEZONE
TZID:Europe/Copenhagen
TZUNTIL:20271031T010000Z
BEGIN:STANDARD
TZNAME:CET
DTSTART:20251026T030000
TZOFFSETFROM:+0200
TZOFFSETTO:+0100
RDATE:20261025T030000
END:STANDARD
BEGIN:DAYLIGHT
TZNAME:CEST
DTSTART:20260329T020000
TZOFFSETFROM:+0100
TZOFFSETTO:+0200
RDATE:20270328T020000
END:DAYLIGHT
END:VTIMEZONE
BEGIN:VEVENT
UID:20250730T090000UTC-5025eMx7hv@https://fritfald.dk/
DTSTAMP:20260421T015322Z
CATEGORIES:Springdage
CATEGORIES:Arrangementer
DTSTART;TZID=Europe/Copenhagen:20250905T120000
DTEND;TZID=Europe/Copenhagen:20250905T120000
SUMMARY:C-spring\, Elev-spring\, 3way cup\, NATSPRING
URL:https://fritfald.dk/index.php/kalender-fdk/19-springdage/1212-c-spring-
 elev-spring-3way-cup-natspring
END:VEVENT
BEGIN:VEVENT
UID:20250815T180000UTC-1585TDH9Vv@https://fritfald.dk/
DTSTAMP:20260421T015322Z
CATEGORIES:Uddannelse og Kurser
DESCRIPTION:<p>Grundkursus til frit fald.<br />Teori og praktiske øvelser.<
 /p>\n<p>Booking her&nbsp\;<span style='color: #0000ff\;'><a href='index.ph
 p?Itemid=138' style='color: #0000ff\;'>Kursus</a></span></p>
DTSTART;TZID=Europe/Copenhagen:20250905T180000
DTEND;TZID=Europe/Copenhagen:20250905T210000
SUMMARY:Grundkursus til frit fald - KUN PRAKTIK
URL:https://fritfald.dk/index.php/kalender-fdk/21-uddannelse-kurser/1244-gr
 undkursus-til-frit-fald-teori-og-praktik
X-ALT-DESC;FMTTYPE=TEXT/HTML:<p>Grundkursus til frit fald.<br />Teori og pr
 aktiske øvelser.</p>\n<p>Booking her&nbsp\;<span style='color: #0000ff\;'>
 <a href='index.php?Itemid=138' style='color: #0000ff\;'>Kursus</a></span><
 /p>
END:VEVENT
BEGIN:VEVENT
UID:20250730T090000UTC-72258ftWhU@https://fritfald.dk/
DTSTAMP:20260421T015322Z
CATEGORIES:Springdage
CATEGORIES:Arrangementer
DTSTART;TZID=Europe/Copenhagen:20250906T090000
DTEND;TZID=Europe/Copenhagen:20250906T090000
RRULE:FREQ=DAILY;COUNT=2;INTERVAL=1
SUMMARY:C-spring\, Elev-spring\, 3way cup\, NATSPRING
URL:https://fritfald.dk/index.php/kalender-fdk/19-springdage/1216-c-spring-
 elev-spring-3way-cup-natspring
END:VEVENT
BEGIN:VEVENT
UID:20250813T180000UTC-8002niJUbG@https://fritfald.dk/
DTSTAMP:20260421T015322Z
CATEGORIES:Uddannelse og Kurser
DESCRIPTION:<p>Grundkursus til frit fald.<br />Teori og praktiske øvelser.<
 /p>\n<p>Booking her&nbsp\;<span style='color: #0000ff\;'><a href='index.ph
 p?Itemid=138' style='color: #0000ff\;'>Kursus</a></span></p>
DTSTART;TZID=Europe/Copenhagen:20250910T180000
DTEND;TZID=Europe/Copenhagen:20250910T220000
RRULE:FREQ=WEEKLY;COUNT=2;INTERVAL=1;BYDAY=WE,FR
SUMMARY:Grundkursus til frit fald - Teori
URL:https://fritfald.dk/index.php/kalender-fdk/21-uddannelse-kurser/1018-gr
 undkursus-til-frit-fald-teori
X-ALT-DESC;FMTTYPE=TEXT/HTML:<p>Grundkursus til frit fald.<br />Teori og pr
 aktiske øvelser.</p>\n<p>Booking her&nbsp\;<span style='color: #0000ff\;'>
 <a href='index.php?Itemid=138' style='color: #0000ff\;'>Kursus</a></span><
 /p>
END:VEVENT
BEGIN:VEVENT
UID:20250906T090000UTC-6241JNZt8e@https://fritfald.dk/
DTSTAMP:20260421T015322Z
CATEGORIES:Springdage
DTSTART;TZID=Europe/Copenhagen:20250919T120000
DTEND;TZID=Europe/Copenhagen:20250919T120000
SUMMARY:Springdag - AFF- Tandem og C-springere
URL:https://fritfald.dk/index.php/kalender-fdk/19-springdage/1221-springdag
 -aff-tandem-og-c-springere
END:VEVENT
BEGIN:VEVENT
UID:20250919T120000UTC-3911otoFsG@https://fritfald.dk/
DTSTAMP:20260421T015322Z
CATEGORIES:Springdage
DTSTART;TZID=Europe/Copenhagen:20250920T090000
DTEND;TZID=Europe/Copenhagen:20250920T090000
RRULE:FREQ=DAILY;COUNT=2;INTERVAL=1
SUMMARY:Springdag - AFF- Tandem og C-springere
URL:https://fritfald.dk/index.php/kalender-fdk/19-springdage/1247-springdag
 -aff-tandem-og-c-springere
END:VEVENT
BEGIN:VEVENT
UID:20250829T090000UTC-4760vm6v0Z@https://fritfald.dk/
DTSTAMP:20260421T015322Z
CATEGORIES:Lukket for spring
DTSTART;TZID=Europe/Copenhagen:20250926T090000
DTEND;TZID=Europe/Copenhagen:20250926T090000
RRULE:FREQ=DAILY;COUNT=3;INTERVAL=1
SUMMARY:Street Race
URL:https://fritfald.dk/index.php/kalender-fdk/28-lukket-for-spring/1051-st
 reet-race
END:VEVENT
END:VCALENDAR
