BEGIN:VCALENDAR
VERSION:2.0
PRODID:-//https://fritfald.dk//NONSGML kigkonsult.se iCalcreator 2.41.71//
CALSCALE:GREGORIAN
METHOD:PUBLISH
UID:39333736-3035-4762-b064-663233623032
X-WR-CALNAME:JCal Pro Kalender
X-WR-CALDESC:Din online arrangementskalender
X-WR-TIMEZONE:Europe/Copenhagen
BEGIN:VTIMEZONE
TZID:Europe/Copenhagen
TZUNTIL:20271031T010000Z
BEGIN:STANDARD
TZNAME:CET
DTSTART:20251026T030000
TZOFFSETFROM:+0200
TZOFFSETTO:+0100
RDATE:20261025T030000
END:STANDARD
BEGIN:DAYLIGHT
TZNAME:CEST
DTSTART:20260329T020000
TZOFFSETFROM:+0100
TZOFFSETTO:+0200
RDATE:20270328T020000
END:DAYLIGHT
END:VTIMEZONE
BEGIN:VEVENT
UID:20250308T100000UTC-9927ZC9u5u@https://fritfald.dk/
DTSTAMP:20260420T235612Z
CATEGORIES:Springdage
DTSTART;TZID=Europe/Copenhagen:20251005T100000
DTEND;TZID=Europe/Copenhagen:20251005T100000
SUMMARY:Springdag - AFF- Tandem og C-springere
URL:https://fritfald.dk/index.php/kalender-fdk/19-springdage/983-springdag-
 aff-tandem-og-c-springere
END:VEVENT
BEGIN:VEVENT
UID:20250308T100000UTC-9927ZC9u5u@https://fritfald.dk/
DTSTAMP:20260420T235612Z
CATEGORIES:Springdage
DTSTART;TZID=Europe/Copenhagen:20251018T100000
DTEND;TZID=Europe/Copenhagen:20251018T100000
SUMMARY:Springdag - AFF- Tandem og C-springere
URL:https://fritfald.dk/index.php/kalender-fdk/19-springdage/986-springdag-
 aff-tandem-og-c-springere
END:VEVENT
BEGIN:VEVENT
UID:20250308T100000UTC-9927ZC9u5u@https://fritfald.dk/
DTSTAMP:20260420T235612Z
CATEGORIES:Springdage
DTSTART;TZID=Europe/Copenhagen:20251019T100000
DTEND;TZID=Europe/Copenhagen:20251019T100000
SUMMARY:Springdag - AFF- Tandem og C-springere
URL:https://fritfald.dk/index.php/kalender-fdk/19-springdage/987-springdag-
 aff-tandem-og-c-springere
END:VEVENT
END:VCALENDAR
