BEGIN:VCALENDAR
VERSION:2.0
PRODID:-//https://fritfald.dk//NONSGML kigkonsult.se iCalcreator 2.41.71//
CALSCALE:GREGORIAN
METHOD:PUBLISH
UID:36656664-6666-4135-b761-326437643831
X-WR-CALNAME:JCal Pro Kalender
X-WR-CALDESC:Din online arrangementskalender
X-WR-TIMEZONE:Europe/Copenhagen
BEGIN:VTIMEZONE
TZID:Europe/Copenhagen
TZUNTIL:20271031T010000Z
BEGIN:STANDARD
TZNAME:CET
DTSTART:20251026T030000
TZOFFSETFROM:+0200
TZOFFSETTO:+0100
RDATE:20261025T030000
END:STANDARD
BEGIN:DAYLIGHT
TZNAME:CEST
DTSTART:20260329T020000
TZOFFSETFROM:+0100
TZOFFSETTO:+0200
RDATE:20270328T020000
END:DAYLIGHT
END:VTIMEZONE
BEGIN:VEVENT
UID:20250412T090000UTC-4142kXZUUA@https://fritfald.dk/
DTSTAMP:20260420T163331Z
CATEGORIES:Arrangementer
DTSTART;TZID=Europe/Copenhagen:20260501T090000
DTEND;TZID=Europe/Copenhagen:20260501T090000
SUMMARY:INHOP
URL:https://fritfald.dk/index.php/kalender-fdk/20-arrangementer/1416-inhop
END:VEVENT
BEGIN:VEVENT
UID:20260402T090000UTC-8264UdzpLo@https://fritfald.dk/
DTSTAMP:20260420T163331Z
CATEGORIES:Springdage
DTSTART;TZID=Europe/Copenhagen:20260502T090000
DTEND;TZID=Europe/Copenhagen:20260502T090000
RRULE:FREQ=WEEKLY;COUNT=4;INTERVAL=1;BYDAY=SU,SA
SUMMARY:Springdag - AFF- Tandem og C-springere
URL:https://fritfald.dk/index.php/kalender-fdk/19-springdage/1297-springdag
 -aff-tandem-og-c-springere
END:VEVENT
BEGIN:VEVENT
UID:20260415T180000UTC-8489U2PNvZ@https://fritfald.dk/
DTSTAMP:20260420T163331Z
CATEGORIES:Uddannelse og Kurser
DESCRIPTION:<p>Flerdags kursus med teori\, praktik og spring</p>\n\n<p>Førs
 te dag er der teori\, efterfølgende dag skal der indøvelse praktiske færdi
 geheder\, for at kunne springe den efterfølgende weekend.</p>
DTSTART;TZID=Europe/Copenhagen:20260506T180000
DTEND;TZID=Europe/Copenhagen:20260506T220000
RRULE:FREQ=WEEKLY;COUNT=2;INTERVAL=1;BYDAY=WE,TH
SUMMARY:AFF grundkursus til frit fald - Teori og praktik
URL:https://fritfald.dk/index.php/kalender-fdk/21-uddannelse-kurser/1458-af
 f-grundkursus-til-frit-fald-teori-og-praktik
X-ALT-DESC;FMTTYPE=TEXT/HTML:<p>Flerdags kursus med teori\, praktik og spri
 ng</p>\n\n<p>Første dag er der teori\, efterfølgende dag skal der indøvels
 e praktiske færdigeheder\, for at kunne springe den efterfølgende weekend.
 </p>
END:VEVENT
BEGIN:VEVENT
UID:20260502T090000UTC-576799XHUO@https://fritfald.dk/
DTSTAMP:20260420T163331Z
CATEGORIES:Springdage
DTSTART;TZID=Europe/Copenhagen:20260514T090000
DTEND;TZID=Europe/Copenhagen:20260514T090000
RRULE:FREQ=DAILY;COUNT=4;INTERVAL=1
SUMMARY:Springdag - AFF- Tandem og C-springere
URL:https://fritfald.dk/index.php/kalender-fdk/19-springdage/1305-springdag
 -aff-tandem-og-c-springere
END:VEVENT
BEGIN:VEVENT
UID:20260506T180000UTC-7721cXwX1Z@https://fritfald.dk/
DTSTAMP:20260420T163331Z
CATEGORIES:Uddannelse og Kurser
DESCRIPTION:<p>Flerdags kursus med teori\, praktik og spring</p>\n\n<p>Førs
 te dag er der teori\, efterfølgende dag skal der indøvelse praktiske færdi
 geheder\, for at kunne springe den efterfølgende weekend.</p>
DTSTART;TZID=Europe/Copenhagen:20260520T180000
DTEND;TZID=Europe/Copenhagen:20260520T220000
RRULE:FREQ=WEEKLY;COUNT=2;INTERVAL=1;BYDAY=WE,TH
SUMMARY:AFF grundkursus til frit fald - Teori og praktik
URL:https://fritfald.dk/index.php/kalender-fdk/21-uddannelse-kurser/1465-af
 f-grundkursus-til-frit-fald-teori-og-praktik
X-ALT-DESC;FMTTYPE=TEXT/HTML:<p>Flerdags kursus med teori\, praktik og spri
 ng</p>\n\n<p>Første dag er der teori\, efterfølgende dag skal der indøvels
 e praktiske færdigeheder\, for at kunne springe den efterfølgende weekend.
 </p>
END:VEVENT
BEGIN:VEVENT
UID:20260514T090000UTC-5973tibHpk@https://fritfald.dk/
DTSTAMP:20260420T163331Z
CATEGORIES:Springdage
DTSTART;TZID=Europe/Copenhagen:20260523T090000
DTEND;TZID=Europe/Copenhagen:20260523T090000
RRULE:FREQ=DAILY;COUNT=3;INTERVAL=1
SUMMARY:Springdag - AFF- Tandem og C-springere
URL:https://fritfald.dk/index.php/kalender-fdk/19-springdage/1312-springdag
 -aff-tandem-og-c-springere
END:VEVENT
BEGIN:VEVENT
UID:20260425T090000UTC-3724f7PfxT@https://fritfald.dk/
DTSTAMP:20260420T163331Z
CATEGORIES:Lukket for spring
DTSTART;TZID=Europe/Copenhagen:20260530T090000
DTEND;TZID=Europe/Copenhagen:20260530T090000
RRULE:FREQ=DAILY;COUNT=2;INTERVAL=1
SUMMARY:Street Race
URL:https://fritfald.dk/index.php/kalender-fdk/28-lukket-for-spring/1393-st
 reet-race
END:VEVENT
END:VCALENDAR
