BEGIN:VCALENDAR
VERSION:2.0
PRODID:-//https://fritfald.dk//NONSGML kigkonsult.se iCalcreator 2.41.71//
CALSCALE:GREGORIAN
METHOD:PUBLISH
UID:33353734-3863-4465-b263-653539316466
X-WR-CALNAME:JCal Pro Kalender
X-WR-CALDESC:Din online arrangementskalender
X-WR-TIMEZONE:Europe/Copenhagen
BEGIN:VTIMEZONE
TZID:Europe/Copenhagen
TZUNTIL:20271031T010000Z
BEGIN:STANDARD
TZNAME:CET
DTSTART:20251026T030000
TZOFFSETFROM:+0200
TZOFFSETTO:+0100
RDATE:20261025T030000
END:STANDARD
BEGIN:DAYLIGHT
TZNAME:CEST
DTSTART:20260329T020000
TZOFFSETFROM:+0100
TZOFFSETTO:+0200
RDATE:20270328T020000
END:DAYLIGHT
END:VTIMEZONE
BEGIN:VEVENT
UID:20260501T090000UTC-39431Phvk9@https://fritfald.dk/
DTSTAMP:20260420T174951Z
CATEGORIES:Arrangementer
DTSTART;TZID=Europe/Copenhagen:20260605T090000
DTEND;TZID=Europe/Copenhagen:20260605T090000
SUMMARY:INHOP
URL:https://fritfald.dk/index.php/kalender-fdk/20-arrangementer/1418-inhop
END:VEVENT
BEGIN:VEVENT
UID:20260522T090000UTC-4212U9VP6N@https://fritfald.dk/
DTSTAMP:20260420T174951Z
CATEGORIES:Springdage
DTSTART;TZID=Europe/Copenhagen:20260606T090000
DTEND;TZID=Europe/Copenhagen:20260606T090000
RRULE:FREQ=WEEKLY;COUNT=4;INTERVAL=1;BYDAY=SU,SA
SUMMARY:Springdag - AFF- Tandem og C-springere
URL:https://fritfald.dk/index.php/kalender-fdk/19-springdage/1323-springdag
 -aff-tandem-og-c-springere
END:VEVENT
BEGIN:VEVENT
UID:20260520T180000UTC-43912hUXNv@https://fritfald.dk/
DTSTAMP:20260420T174951Z
CATEGORIES:Uddannelse og Kurser
DESCRIPTION:<p>Flerdags kursus med teori\, praktik og spring</p>\n\n<p>Førs
 te dag er der teori\, efterfølgende dag skal der indøvelse praktiske færdi
 geheder\, for at kunne springe den efterfølgende weekend.</p>
DTSTART;TZID=Europe/Copenhagen:20260610T180000
DTEND;TZID=Europe/Copenhagen:20260610T220000
RRULE:FREQ=WEEKLY;COUNT=2;INTERVAL=1;BYDAY=WE,TH
SUMMARY:AFF grundkursus til frit fald - Teori og praktik
URL:https://fritfald.dk/index.php/kalender-fdk/21-uddannelse-kurser/1468-af
 f-grundkursus-til-frit-fald-teori-og-praktik
X-ALT-DESC;FMTTYPE=TEXT/HTML:<p>Flerdags kursus med teori\, praktik og spri
 ng</p>\n\n<p>Første dag er der teori\, efterfølgende dag skal der indøvels
 e praktiske færdigeheder\, for at kunne springe den efterfølgende weekend.
 </p>
END:VEVENT
BEGIN:VEVENT
UID:20260605T090000UTC-9415SaLgM8@https://fritfald.dk/
DTSTAMP:20260420T174951Z
CATEGORIES:Arrangementer
DTSTART;TZID=Europe/Copenhagen:20260623T090000
DTEND;TZID=Europe/Copenhagen:20260623T090000
SUMMARY:INHOP
URL:https://fritfald.dk/index.php/kalender-fdk/20-arrangementer/1419-inhop
END:VEVENT
BEGIN:VEVENT
UID:20260610T180000UTC-2277VA8Hr1@https://fritfald.dk/
DTSTAMP:20260420T174951Z
CATEGORIES:Uddannelse og Kurser
DESCRIPTION:<p>Flerdags kursus med teori\, praktik og spring</p>\n\n<p>Førs
 te dag er der teori\, efterfølgende dag skal der indøvelse praktiske færdi
 geheder\, for at kunne springe den efterfølgende weekend.</p>
DTSTART;TZID=Europe/Copenhagen:20260623T180000
DTEND;TZID=Europe/Copenhagen:20260623T220000
RRULE:FREQ=WEEKLY;COUNT=1;INTERVAL=1;BYDAY=TU
SUMMARY:AFF grundkursus til frit fald - Teori og praktik
URL:https://fritfald.dk/index.php/kalender-fdk/21-uddannelse-kurser/1471-af
 f-grundkursus-til-frit-fald-teori-og-praktik
X-ALT-DESC;FMTTYPE=TEXT/HTML:<p>Flerdags kursus med teori\, praktik og spri
 ng</p>\n\n<p>Første dag er der teori\, efterfølgende dag skal der indøvels
 e praktiske færdigeheder\, for at kunne springe den efterfølgende weekend.
 </p>
END:VEVENT
BEGIN:VEVENT
UID:20260606T090000UTC-2513hsvseV@https://fritfald.dk/
DTSTAMP:20260420T174951Z
CATEGORIES:Springdage
DTSTART;TZID=Europe/Copenhagen:20260624T090000
DTEND;TZID=Europe/Copenhagen:20260624T090000
RRULE:FREQ=DAILY;COUNT=5;INTERVAL=1
SUMMARY:Elevuge - Springdag - AFF- Tandem og C-springere
URL:https://fritfald.dk/index.php/kalender-fdk/19-springdage/1330-springdag
 -aff-tandem-og-c-springere
END:VEVENT
BEGIN:VEVENT
UID:20260623T180000UTC-0187P8uDPV@https://fritfald.dk/
DTSTAMP:20260420T174951Z
CATEGORIES:Uddannelse og Kurser
DESCRIPTION:<p>Flerdags kursus med teori\, praktik og spring</p>\n\n<p>Førs
 te dag er der teori\, efterfølgende dag skal der indøvelse praktiske færdi
 geheder\, for at kunne springe den efterfølgende weekend.</p>
DTSTART;TZID=Europe/Copenhagen:20260624T090000
DTEND;TZID=Europe/Copenhagen:20260624T130000
RRULE:FREQ=WEEKLY;COUNT=1;INTERVAL=1;BYDAY=WE
SUMMARY:AFF grundkursus til frit fald - Teori og praktik
URL:https://fritfald.dk/index.php/kalender-fdk/21-uddannelse-kurser/1479-af
 f-grundkursus-til-frit-fald-teori-og-praktik
X-ALT-DESC;FMTTYPE=TEXT/HTML:<p>Flerdags kursus med teori\, praktik og spri
 ng</p>\n\n<p>Første dag er der teori\, efterfølgende dag skal der indøvels
 e praktiske færdigeheder\, for at kunne springe den efterfølgende weekend.
 </p>
END:VEVENT
END:VCALENDAR
