BEGIN:VCALENDAR
VERSION:2.0
PRODID:-//https://fritfald.dk//NONSGML kigkonsult.se iCalcreator 2.41.71//
CALSCALE:GREGORIAN
METHOD:PUBLISH
UID:61386633-6365-4138-a136-353832363863
X-WR-CALNAME:JCal Pro Kalender
X-WR-CALDESC:Din online arrangementskalender
X-WR-TIMEZONE:Europe/Copenhagen
BEGIN:VTIMEZONE
TZID:Europe/Copenhagen
TZUNTIL:20271031T010000Z
BEGIN:STANDARD
TZNAME:CET
DTSTART:20251026T030000
TZOFFSETFROM:+0200
TZOFFSETTO:+0100
RDATE:20261025T030000
END:STANDARD
BEGIN:DAYLIGHT
TZNAME:CEST
DTSTART:20260329T020000
TZOFFSETFROM:+0100
TZOFFSETTO:+0200
RDATE:20270328T020000
END:DAYLIGHT
END:VTIMEZONE
BEGIN:VEVENT
UID:20260905T090000UTC-0396E5lS6m@https://fritfald.dk/
DTSTAMP:20260420T190502Z
CATEGORIES:Springdage
DTSTART;TZID=Europe/Copenhagen:20260704T090000
DTEND;TZID=Europe/Copenhagen:20260704T090000
RRULE:FREQ=WEEKLY;COUNT=2;INTERVAL=1;BYDAY=SU,SA
SUMMARY:Springdag - AFF- Tandem og C-springere
URL:https://fritfald.dk/index.php/kalender-fdk/19-springdage/1376-elevuge-s
 pringdag-aff-tandem-og-c-springere
END:VEVENT
END:VCALENDAR
