BEGIN:VCALENDAR
VERSION:2.0
PRODID:-//https://fritfald.dk//NONSGML kigkonsult.se iCalcreator 2.41.71//
CALSCALE:GREGORIAN
METHOD:PUBLISH
UID:64653963-3833-4661-a330-656565663133
X-WR-CALNAME:JCal Pro Kalender
X-WR-CALDESC:Din online arrangementskalender
X-WR-TIMEZONE:Europe/Copenhagen
BEGIN:VTIMEZONE
TZID:Europe/Copenhagen
TZUNTIL:20271031T010000Z
BEGIN:STANDARD
TZNAME:CET
DTSTART:20251026T030000
TZOFFSETFROM:+0200
TZOFFSETTO:+0100
RDATE:20261025T030000
END:STANDARD
BEGIN:DAYLIGHT
TZNAME:CEST
DTSTART:20260329T020000
TZOFFSETFROM:+0100
TZOFFSETTO:+0200
RDATE:20270328T020000
END:DAYLIGHT
END:VTIMEZONE
BEGIN:VEVENT
UID:20260610T180000UTC-0156lGdSgZ@https://fritfald.dk/
DTSTAMP:20260420T205556Z
CATEGORIES:Uddannelse og Kurser
DESCRIPTION:<p>Flerdags kursus med teori\, praktik og spring</p>\n\n<p>Førs
 te dag er der teori\, efterfølgende dag skal der indøvelse praktiske færdi
 geheder\, for at kunne springe den efterfølgende weekend.</p>
DTSTART;TZID=Europe/Copenhagen:20260805T180000
DTEND;TZID=Europe/Copenhagen:20260805T220000
RRULE:FREQ=WEEKLY;COUNT=2;INTERVAL=1;BYDAY=WE,TH
SUMMARY:AFF grundkursus til frit fald - Teori og praktik
URL:https://fritfald.dk/index.php/kalender-fdk/21-uddannelse-kurser/1480-af
 f-grundkursus-til-frit-fald-teori-og-praktik
X-ALT-DESC;FMTTYPE=TEXT/HTML:<p>Flerdags kursus med teori\, praktik og spri
 ng</p>\n\n<p>Første dag er der teori\, efterfølgende dag skal der indøvels
 e praktiske færdigeheder\, for at kunne springe den efterfølgende weekend.
 </p>
END:VEVENT
BEGIN:VEVENT
UID:20260307T100000UTC-2024HKu6kh@https://fritfald.dk/
DTSTAMP:20260420T205556Z
CATEGORIES:Springdage
DTSTART;TZID=Europe/Copenhagen:20260808T100000
DTEND;TZID=Europe/Copenhagen:20260808T100000
RRULE:FREQ=WEEKLY;COUNT=3;INTERVAL=1;BYDAY=SU,SA
SUMMARY:Springdag - AFF- Tandem og C-springere
URL:https://fritfald.dk/index.php/kalender-fdk/19-springdage/1399-springdag
 -aff-tandem-og-c-springere
END:VEVENT
BEGIN:VEVENT
UID:20260805T180000UTC-7337p918Wf@https://fritfald.dk/
DTSTAMP:20260420T205556Z
CATEGORIES:Uddannelse og Kurser
DESCRIPTION:<p>Flerdags kursus med teori\, praktik og spring</p>\n\n<p>Førs
 te dag er der teori\, efterfølgende dag skal der indøvelse praktiske færdi
 geheder\, for at kunne springe den efterfølgende weekend.</p>
DTSTART;TZID=Europe/Copenhagen:20260819T180000
DTEND;TZID=Europe/Copenhagen:20260819T220000
RRULE:FREQ=WEEKLY;COUNT=2;INTERVAL=1;BYDAY=WE,TH
SUMMARY:AFF grundkursus til frit fald - Teori og praktik
URL:https://fritfald.dk/index.php/kalender-fdk/21-uddannelse-kurser/1483-af
 f-grundkursus-til-frit-fald-teori-og-praktik
X-ALT-DESC;FMTTYPE=TEXT/HTML:<p>Flerdags kursus med teori\, praktik og spri
 ng</p>\n\n<p>Første dag er der teori\, efterfølgende dag skal der indøvels
 e praktiske færdigeheder\, for at kunne springe den efterfølgende weekend.
 </p>
END:VEVENT
BEGIN:VEVENT
UID:20260808T100000UTC-7344UPDuUH@https://fritfald.dk/
DTSTAMP:20260420T205556Z
CATEGORIES:Springdage
DTSTART;TZID=Europe/Copenhagen:20260821T090000
DTEND;TZID=Europe/Copenhagen:20260821T090000
RRULE:FREQ=WEEKLY;COUNT=3;INTERVAL=1;BYDAY=SU,FR,SA
SUMMARY:CRW camp + Springdag - AFF- Tandem og C-springere
URL:https://fritfald.dk/index.php/kalender-fdk/19-springdage/1409-springdag
 -aff-tandem-og-c-springere
END:VEVENT
BEGIN:VEVENT
UID:20260530T090000UTC-5723sbFRuA@https://fritfald.dk/
DTSTAMP:20260420T205556Z
CATEGORIES:Lukket for spring
DTSTART;TZID=Europe/Copenhagen:20260829T090000
DTEND;TZID=Europe/Copenhagen:20260829T090000
RRULE:FREQ=DAILY;COUNT=2;INTERVAL=1
SUMMARY:Street Race
URL:https://fritfald.dk/index.php/kalender-fdk/28-lukket-for-spring/1396-st
 reet-race
END:VEVENT
END:VCALENDAR
