BEGIN:VCALENDAR
VERSION:2.0
PRODID:-//https://fritfald.dk//NONSGML kigkonsult.se iCalcreator 2.41.71//
CALSCALE:GREGORIAN
METHOD:PUBLISH
UID:30333438-6637-4633-b737-363833333664
X-WR-CALNAME:JCal Pro Kalender
X-WR-CALDESC:Din online arrangementskalender
X-WR-TIMEZONE:Europe/Copenhagen
BEGIN:VTIMEZONE
TZID:Europe/Copenhagen
TZUNTIL:20271031T010000Z
BEGIN:STANDARD
TZNAME:CET
DTSTART:20251026T030000
TZOFFSETFROM:+0200
TZOFFSETTO:+0100
RDATE:20261025T030000
END:STANDARD
BEGIN:DAYLIGHT
TZNAME:CEST
DTSTART:20260329T020000
TZOFFSETFROM:+0100
TZOFFSETTO:+0200
RDATE:20270328T020000
END:DAYLIGHT
END:VTIMEZONE
BEGIN:VEVENT
UID:20260623T090000UTC-7980hh7VsA@https://fritfald.dk/
DTSTAMP:20260420T222922Z
CATEGORIES:Arrangementer
DTSTART;TZID=Europe/Copenhagen:20260904T090000
DTEND;TZID=Europe/Copenhagen:20260904T090000
SUMMARY:INHOP
URL:https://fritfald.dk/index.php/kalender-fdk/20-arrangementer/1420-inhop
END:VEVENT
BEGIN:VEVENT
UID:20261003T090000UTC-73509IZasb@https://fritfald.dk/
DTSTAMP:20260420T222922Z
CATEGORIES:Springdage
DTSTART;TZID=Europe/Copenhagen:20260905T090000
DTEND;TZID=Europe/Copenhagen:20260905T090000
RRULE:FREQ=WEEKLY;COUNT=4;INTERVAL=1;BYDAY=SU,SA
SUMMARY:Springdag - AFF- Tandem og C-springere
URL:https://fritfald.dk/index.php/kalender-fdk/19-springdage/1365-elevuge-s
 pringdag-aff-tandem-og-c-springere
END:VEVENT
BEGIN:VEVENT
UID:20260819T180000UTC-9466vfXXS1@https://fritfald.dk/
DTSTAMP:20260420T222922Z
CATEGORIES:Uddannelse og Kurser
DESCRIPTION:<p>Flerdags kursus med teori\, praktik og spring</p>\n\n<p>Førs
 te dag er der teori\, efterfølgende dag skal der indøvelse praktiske færdi
 geheder\, for at kunne springe den efterfølgende weekend.</p>
DTSTART;TZID=Europe/Copenhagen:20260909T180000
DTEND;TZID=Europe/Copenhagen:20260909T220000
RRULE:FREQ=WEEKLY;COUNT=2;INTERVAL=1;BYDAY=WE,TH
SUMMARY:AFF grundkursus til frit fald - Teori og praktik
URL:https://fritfald.dk/index.php/kalender-fdk/21-uddannelse-kurser/1486-af
 f-grundkursus-til-frit-fald-teori-og-praktik
X-ALT-DESC;FMTTYPE=TEXT/HTML:<p>Flerdags kursus med teori\, praktik og spri
 ng</p>\n\n<p>Første dag er der teori\, efterfølgende dag skal der indøvels
 e praktiske færdigeheder\, for at kunne springe den efterfølgende weekend.
 </p>
END:VEVENT
BEGIN:VEVENT
UID:20260829T090000UTC-19000TAVrf@https://fritfald.dk/
DTSTAMP:20260420T222922Z
CATEGORIES:Lukket for spring
DTSTART;TZID=Europe/Copenhagen:20260919T090000
DTEND;TZID=Europe/Copenhagen:20260919T090000
RRULE:FREQ=DAILY;COUNT=2;INTERVAL=1
SUMMARY:Street Race
URL:https://fritfald.dk/index.php/kalender-fdk/28-lukket-for-spring/1421-st
 reet-race
END:VEVENT
BEGIN:VEVENT
UID:20260624T090000UTC-1871ccUEe5@https://fritfald.dk/
DTSTAMP:20260420T222922Z
CATEGORIES:Springdage
DTSTART;TZID=Europe/Copenhagen:20260926T090000
DTEND;TZID=Europe/Copenhagen:20260926T090000
RRULE:FREQ=WEEKLY;COUNT=10;INTERVAL=1;BYDAY=SU,SA
SUMMARY:Springdag - AFF- Tandem og C-springere
URL:https://fritfald.dk/index.php/kalender-fdk/19-springdage/1353-elevuge-s
 pringdag-aff-tandem-og-c-springere
END:VEVENT
END:VCALENDAR
